BEGIN:VCALENDAR
VERSION:2.0
PRODID:-//Invicta Military-Vehicle Preservation Society - ECPv6.11.2.1//NONSGML v1.0//EN
CALSCALE:GREGORIAN
METHOD:PUBLISH
X-ORIGINAL-URL:https://www.imps.org.uk
X-WR-CALDESC:Events for Invicta Military-Vehicle Preservation Society
REFRESH-INTERVAL;VALUE=DURATION:PT1H
X-Robots-Tag:noindex
X-PUBLISHED-TTL:PT1H
BEGIN:VTIMEZONE
TZID:UTC
BEGIN:STANDARD
TZOFFSETFROM:+0000
TZOFFSETTO:+0000
TZNAME:UTC
DTSTART:20240101T000000
END:STANDARD
END:VTIMEZONE
BEGIN:VEVENT
DTSTART;VALUE=DATE:20240810
DTEND;VALUE=DATE:20240812
DTSTAMP:20260424T053158
CREATED:20240727T005912Z
LAST-MODIFIED:20240727T010512Z
UID:10000148-1723248000-1723420799@www.imps.org.uk
SUMMARY:Echoes of History
DESCRIPTION:A multi period and national living history and military event showing military history through the ages and of course historic military vehicles that are so much a special feature of our show.
URL:https://www.imps.org.uk/event/echoes-of-history/
LOCATION:Whitehouse Farm\, The Living Memorial\, Rettendon\, Essex\, CM3 8DL
ATTACH;FMTTYPE=image/png:https://www.imps.org.uk/wp-content/uploads/Echoes.png
END:VEVENT
END:VCALENDAR