BEGIN:VCALENDAR
VERSION:2.0
PRODID:-//Invicta Military-Vehicle Preservation Society - ECPv6.11.2.1//NONSGML v1.0//EN
CALSCALE:GREGORIAN
METHOD:PUBLISH
X-WR-CALNAME:Invicta Military-Vehicle Preservation Society
X-ORIGINAL-URL:https://www.imps.org.uk
X-WR-CALDESC:Events for Invicta Military-Vehicle Preservation Society
REFRESH-INTERVAL;VALUE=DURATION:PT1H
X-Robots-Tag:noindex
X-PUBLISHED-TTL:PT1H
BEGIN:VTIMEZONE
TZID:UTC
BEGIN:STANDARD
TZOFFSETFROM:+0000
TZOFFSETTO:+0000
TZNAME:UTC
DTSTART:20250101T000000
END:STANDARD
END:VTIMEZONE
BEGIN:VEVENT
DTSTART;TZID=UTC:20250323T080000
DTEND;TZID=UTC:20250323T170000
DTSTAMP:20260426T004517
CREATED:20240727T014605Z
LAST-MODIFIED:20250115T133423Z
UID:10000151-1742716800-1742749200@www.imps.org.uk
SUMMARY:Malvern Indoor Militaria Fair
DESCRIPTION:Militaria Books\, Vehicles\, Parts\, Uniforms\, Weapons\, Radios\, Manuals\, Medals and Models.
URL:https://www.imps.org.uk/event/malvern-indoor-militaria-fair/
LOCATION:The Three Counties Showground\, Welland\, Malvern\, WR13 6SP
CATEGORIES:Fairs
ATTACH;FMTTYPE=image/png:https://www.imps.org.uk/wp-content/uploads/Malvern.png
END:VEVENT
END:VCALENDAR