BEGIN:VCALENDAR
VERSION:2.0
PRODID:-//Invicta Military-Vehicle Preservation Society - ECPv6.11.2.1//NONSGML v1.0//EN
CALSCALE:GREGORIAN
METHOD:PUBLISH
X-ORIGINAL-URL:https://www.imps.org.uk
X-WR-CALDESC:Events for Invicta Military-Vehicle Preservation Society
REFRESH-INTERVAL;VALUE=DURATION:PT1H
X-Robots-Tag:noindex
X-PUBLISHED-TTL:PT1H
BEGIN:VTIMEZONE
TZID:UTC
BEGIN:STANDARD
TZOFFSETFROM:+0000
TZOFFSETTO:+0000
TZNAME:UTC
DTSTART:20250101T000000
END:STANDARD
END:VTIMEZONE
BEGIN:VEVENT
DTSTART;VALUE=DATE:20251004
DTEND;VALUE=DATE:20251006
DTSTAMP:20260424T043256
CREATED:20240726T151155Z
LAST-MODIFIED:20250122T105948Z
UID:10000141-1759536000-1759708799@www.imps.org.uk
SUMMARY:Battles Through History Show
DESCRIPTION:Living History\, Military Vehicles\, Wargamers\, Modelmakers\, a Vintage Village\, Traders in all things of all eras. Museum quality exhibitors\,  live music and entertainment – and many\, many battles!
URL:https://www.imps.org.uk/event/battles-through-history-show/
LOCATION:The South of England Showground\, Selsfield Road\, Haywards Heath\, RH17 6TL
CATEGORIES:Shows
ATTACH;FMTTYPE=image/jpeg:https://www.imps.org.uk/wp-content/uploads/BTH-logo-e1736882537280.jpg
END:VEVENT
END:VCALENDAR