BEGIN:VCALENDAR
VERSION:2.0
PRODID:-//Invicta Military-Vehicle Preservation Society - ECPv6.11.2.1//NONSGML v1.0//EN
CALSCALE:GREGORIAN
METHOD:PUBLISH
X-WR-CALNAME:Invicta Military-Vehicle Preservation Society
X-ORIGINAL-URL:https://www.imps.org.uk
X-WR-CALDESC:Events for Invicta Military-Vehicle Preservation Society
REFRESH-INTERVAL;VALUE=DURATION:PT1H
X-Robots-Tag:noindex
X-PUBLISHED-TTL:PT1H
BEGIN:VTIMEZONE
TZID:UTC
BEGIN:STANDARD
TZOFFSETFROM:+0000
TZOFFSETTO:+0000
TZNAME:UTC
DTSTART:20240101T000000
END:STANDARD
END:VTIMEZONE
BEGIN:VEVENT
DTSTART;TZID=UTC:20241215T090000
DTEND;TZID=UTC:20241215T140000
DTSTAMP:20260424T024734
CREATED:20240726T144532Z
LAST-MODIFIED:20240726T144532Z
UID:10000134-1734253200-1734271200@www.imps.org.uk
SUMMARY:Northern Arms Fair (Leeds)
DESCRIPTION:Northern Arms Fairs was established in 1978 and has for many years been the leading organisers of antique arms\, medals & militaria collectors’ fairs in the North of England and further afield\, by providing venues for collectors & dealers to share their passion & knowledge of all things military.
URL:https://www.imps.org.uk/event/northern-arms-fair-leeds/2024-12-15/
LOCATION:Pudsey Civic Hall\, Dawsons Cor\, Stanningley\, Pudsey LS28 5TA
ATTACH;FMTTYPE=image/webp:https://www.imps.org.uk/wp-content/uploads/Northern-Arms-Fair-1.webp
END:VEVENT
BEGIN:VEVENT
DTSTART;TZID=UTC:20241013T090000
DTEND;TZID=UTC:20241013T140000
DTSTAMP:20260424T024734
CREATED:20240726T144532Z
LAST-MODIFIED:20240726T144532Z
UID:10000133-1728810000-1728828000@www.imps.org.uk
SUMMARY:Northern Arms Fair (Leeds)
DESCRIPTION:Northern Arms Fairs was established in 1978 and has for many years been the leading organisers of antique arms\, medals & militaria collectors’ fairs in the North of England and further afield\, by providing venues for collectors & dealers to share their passion & knowledge of all things military.
URL:https://www.imps.org.uk/event/northern-arms-fair-leeds/2024-10-13/
LOCATION:Pudsey Civic Hall\, Dawsons Cor\, Stanningley\, Pudsey LS28 5TA
ATTACH;FMTTYPE=image/webp:https://www.imps.org.uk/wp-content/uploads/Northern-Arms-Fair-1.webp
END:VEVENT
BEGIN:VEVENT
DTSTART;TZID=UTC:20240818T090000
DTEND;TZID=UTC:20240818T140000
DTSTAMP:20260424T024734
CREATED:20240726T144532Z
LAST-MODIFIED:20240726T144532Z
UID:10000132-1723971600-1723989600@www.imps.org.uk
SUMMARY:Northern Arms Fair (Leeds)
DESCRIPTION:Northern Arms Fairs was established in 1978 and has for many years been the leading organisers of antique arms\, medals & militaria collectors’ fairs in the North of England and further afield\, by providing venues for collectors & dealers to share their passion & knowledge of all things military.
URL:https://www.imps.org.uk/event/northern-arms-fair-leeds/2024-08-18/
LOCATION:Pudsey Civic Hall\, Dawsons Cor\, Stanningley\, Pudsey LS28 5TA
ATTACH;FMTTYPE=image/webp:https://www.imps.org.uk/wp-content/uploads/Northern-Arms-Fair-1.webp
END:VEVENT
END:VCALENDAR