BEGIN:VCALENDAR
VERSION:2.0
PRODID:-//Invicta Military-Vehicle Preservation Society - ECPv6.11.2.1//NONSGML v1.0//EN
CALSCALE:GREGORIAN
METHOD:PUBLISH
X-ORIGINAL-URL:https://www.imps.org.uk
X-WR-CALDESC:Events for Invicta Military-Vehicle Preservation Society
REFRESH-INTERVAL;VALUE=DURATION:PT1H
X-Robots-Tag:noindex
X-PUBLISHED-TTL:PT1H
BEGIN:VTIMEZONE
TZID:UTC
BEGIN:STANDARD
TZOFFSETFROM:+0000
TZOFFSETTO:+0000
TZNAME:UTC
DTSTART:20250101T000000
END:STANDARD
END:VTIMEZONE
BEGIN:VEVENT
DTSTART;VALUE=DATE:20250608
DTEND;VALUE=DATE:20250609
DTSTAMP:20260425T231849
CREATED:20250122T104525Z
LAST-MODIFIED:20250122T104525Z
UID:10000160-1749340800-1749427199@www.imps.org.uk
SUMMARY:Faversham in the 40's
DESCRIPTION:2024 was the first time this event was held and it was a huge success. For 2025 it would be nice to have more WWII vehicles\, but this event is open to all military vehicles which will be parked in Court Street near the Shepherd Neame Brewery. \nHeld in the historic heart of Faversham this is a great venue with plenty going on with local businesses getting involved\, reenactors and 40s entertainment. Cadets and regular army expected to be in attendance. \nContact Colin Port at colin.rmp@hotmail.co.uk or 07800675372
URL:https://www.imps.org.uk/event/faversham-in-the-40s/
LOCATION:Faversham Town Center\, Faversham
CATEGORIES:Events
ATTACH;FMTTYPE=image/jpeg:https://www.imps.org.uk/wp-content/uploads/1737145445592.jpeg
ORGANIZER;CN="Colin Port":MAILTO:rmp@hotmail.co.uk
END:VEVENT
BEGIN:VEVENT
DTSTART;VALUE=DATE:20250517
DTEND;VALUE=DATE:20250519
DTSTAMP:20260425T231849
CREATED:20250115T144215Z
LAST-MODIFIED:20250326T094814Z
UID:10000159-1747440000-1747612799@www.imps.org.uk
SUMMARY:Faversham Transport Weekend
DESCRIPTION:Contact Colin Port: colin.rmp@hotmail.co.uk or 07800675372. The main event is on Sunday 18th May. The military vehicle area is in Stone Street from the Cadet Centre to the War Memorial. In the Military Zone we will have the towns Cadet units\, the Royal British Legion and a display from the Army Careers office. A great venue to show your vehicle off\, no mud or dust. We had a few vehicles year but plenty of room for more.
URL:https://www.imps.org.uk/event/faversham-transport-weekend/
LOCATION:Faversham Town Center\, Faversham
CATEGORIES:Events
ATTACH;FMTTYPE=image/jpeg:https://www.imps.org.uk/wp-content/uploads/faversham.jpg
ORGANIZER;CN="Colin Port":MAILTO:rmp@hotmail.co.uk
END:VEVENT
END:VCALENDAR