BEGIN:VCALENDAR
VERSION:2.0
PRODID:-//Invicta Military-Vehicle Preservation Society - ECPv6.11.2.1//NONSGML v1.0//EN
CALSCALE:GREGORIAN
METHOD:PUBLISH
X-ORIGINAL-URL:https://www.imps.org.uk
X-WR-CALDESC:Events for Invicta Military-Vehicle Preservation Society
REFRESH-INTERVAL;VALUE=DURATION:PT1H
X-Robots-Tag:noindex
X-PUBLISHED-TTL:PT1H
BEGIN:VTIMEZONE
TZID:UTC
BEGIN:STANDARD
TZOFFSETFROM:+0000
TZOFFSETTO:+0000
TZNAME:UTC
DTSTART:20240101T000000
END:STANDARD
END:VTIMEZONE
BEGIN:VEVENT
DTSTART;TZID=UTC:20250413T080000
DTEND;TZID=UTC:20250413T130000
DTSTAMP:20260425T214753
CREATED:20250115T135433Z
LAST-MODIFIED:20250122T110118Z
UID:10000155-1744531200-1744549200@www.imps.org.uk
SUMMARY:Dallas Dig Out
DESCRIPTION:Stalls from only £15\, or come as a visitor – entry is just £2.
URL:https://www.imps.org.uk/event/dallas-dig-out/2025-04-13/
LOCATION:Dallas Auto Parts\, Cold Ash Farm\, Long Lane\, RG18 9LT
CATEGORIES:Fairs
END:VEVENT
BEGIN:VEVENT
DTSTART;VALUE=DATE:20250406
DTEND;VALUE=DATE:20250407
DTSTAMP:20260425T214753
CREATED:20250225T110831Z
LAST-MODIFIED:20250225T110831Z
UID:10000161-1743897600-1743983999@www.imps.org.uk
SUMMARY:The AA Commemorative Military Road Run
DESCRIPTION:Road run from Sevenoaks to Hastings to raise money for Combat Stress. It is open to any soft skinned military vehicles and motorcycles of the type used by the British armed forces from 1909 to the present day (armoured vehicles are precluded)\, as well as any pre 1965 veteran\, vintage and classic cars\, commercial vehicles and motorcycles.\nEntry to the run is subject to a donation to Combat stress
URL:https://www.imps.org.uk/event/the-aa-commemorative-military-road-run/
CATEGORIES:IMPS
ATTACH;FMTTYPE=image/png:https://www.imps.org.uk/wp-content/uploads/AA-Round.png
END:VEVENT
BEGIN:VEVENT
DTSTART;TZID=UTC:20250323T080000
DTEND;TZID=UTC:20250323T170000
DTSTAMP:20260425T214753
CREATED:20240727T014605Z
LAST-MODIFIED:20250115T133423Z
UID:10000151-1742716800-1742749200@www.imps.org.uk
SUMMARY:Malvern Indoor Militaria Fair
DESCRIPTION:Militaria Books\, Vehicles\, Parts\, Uniforms\, Weapons\, Radios\, Manuals\, Medals and Models.
URL:https://www.imps.org.uk/event/malvern-indoor-militaria-fair/
LOCATION:The Three Counties Showground\, Welland\, Malvern\, WR13 6SP
CATEGORIES:Fairs
ATTACH;FMTTYPE=image/png:https://www.imps.org.uk/wp-content/uploads/Malvern.png
END:VEVENT
BEGIN:VEVENT
DTSTART;VALUE=DATE:20250202
DTEND;VALUE=DATE:20250203
DTSTAMP:20260425T214753
CREATED:20231226T142924Z
LAST-MODIFIED:20240727T020704Z
UID:10000117-1738454400-1738540799@www.imps.org.uk
SUMMARY:Stoneleigh Militaria
DESCRIPTION:Uniforms\, Militaria\, Books & Manuals\, Weapons\, Medals\, Models and WWII\nClothing\, Radiosm Vehicle Parts. Open for public from 8:00am to 4:00pm
URL:https://www.imps.org.uk/event/stoneleigh-militaria/
CATEGORIES:Events
END:VEVENT
BEGIN:VEVENT
DTSTART;TZID=UTC:20241215T090000
DTEND;TZID=UTC:20241215T140000
DTSTAMP:20260425T214753
CREATED:20240726T144532Z
LAST-MODIFIED:20240726T144532Z
UID:10000134-1734253200-1734271200@www.imps.org.uk
SUMMARY:Northern Arms Fair (Leeds)
DESCRIPTION:Northern Arms Fairs was established in 1978 and has for many years been the leading organisers of antique arms\, medals & militaria collectors’ fairs in the North of England and further afield\, by providing venues for collectors & dealers to share their passion & knowledge of all things military.
URL:https://www.imps.org.uk/event/northern-arms-fair-leeds/2024-12-15/
LOCATION:Pudsey Civic Hall\, Dawsons Cor\, Stanningley\, Pudsey LS28 5TA
ATTACH;FMTTYPE=image/webp:https://www.imps.org.uk/wp-content/uploads/Northern-Arms-Fair-1.webp
END:VEVENT
BEGIN:VEVENT
DTSTART;TZID=UTC:20241208T093000
DTEND;TZID=UTC:20241208T143000
DTSTAMP:20260425T214753
CREATED:20230422T092348Z
LAST-MODIFIED:20240726T150136Z
UID:10000012-1733650200-1733668200@www.imps.org.uk
SUMMARY:Kempton Vintage & Classic Arms Fair
DESCRIPTION:Kempton Park Race Course\, Staines Rd East\, TW16 5AQ.\nOpen for public from 9:30am to 2:30pm
URL:https://www.imps.org.uk/event/kempton-classic-arms-fair/2024-12-08/
LOCATION:Kempton Park Racecourse\, Staines Road East\, Sunbury-on-Thames\, TW16 5AQ
CATEGORIES:Shows
ATTACH;FMTTYPE=image/png:https://www.imps.org.uk/wp-content/uploads/Kempton.png
END:VEVENT
BEGIN:VEVENT
DTSTART;VALUE=DATE:20241201
DTEND;VALUE=DATE:20241202
DTSTAMP:20260425T214753
CREATED:20240726T153007Z
LAST-MODIFIED:20240727T004806Z
UID:10000147-1733014086-1733014086@www.imps.org.uk
SUMMARY:Wolverley Militaria Fair
DESCRIPTION:An excellent selection of usually around 20 to 25 stalls selling Medals\, Badges\, Uniforms\, Equipment etc.. from 18th century to the present day .
URL:https://www.imps.org.uk/event/wolverley-militaria-fair/2024-12-01/
ATTACH;FMTTYPE=image/jpeg:https://www.imps.org.uk/wp-content/uploads/Wolverley.jpg
END:VEVENT
BEGIN:VEVENT
DTSTART;TZID=UTC:20241103T090000
DTEND;TZID=UTC:20241103T140000
DTSTAMP:20260425T214753
CREATED:20240726T145301Z
LAST-MODIFIED:20240726T145301Z
UID:10000140-1730624400-1730642400@www.imps.org.uk
SUMMARY:Northern Arms Fair (Preston)
DESCRIPTION:Northern Arms Fairs was established in 1978 and has for many years been the leading organisers of antique arms\, medals & militaria collectors’ fairs in the North of England and further afield\, by providing venues for collectors & dealers to share their passion & knowledge of all things military.
URL:https://www.imps.org.uk/event/northern-arms-fair-preston/2024-11-03/
LOCATION:The Mecure Bolton\, Georgian House Hotel\, Manchester Road\, Blackrod\, BL6 5RU
ATTACH;FMTTYPE=image/webp:https://www.imps.org.uk/wp-content/uploads/Northern-Arms-Fair-1.webp
END:VEVENT
BEGIN:VEVENT
DTSTART;VALUE=DATE:20241103
DTEND;VALUE=DATE:20241104
DTSTAMP:20260425T214753
CREATED:20240726T153007Z
LAST-MODIFIED:20240727T004806Z
UID:10000146-1730594886-1730594886@www.imps.org.uk
SUMMARY:Wolverley Militaria Fair
DESCRIPTION:An excellent selection of usually around 20 to 25 stalls selling Medals\, Badges\, Uniforms\, Equipment etc.. from 18th century to the present day .
URL:https://www.imps.org.uk/event/wolverley-militaria-fair/2024-11-03/
ATTACH;FMTTYPE=image/jpeg:https://www.imps.org.uk/wp-content/uploads/Wolverley.jpg
END:VEVENT
BEGIN:VEVENT
DTSTART;TZID=UTC:20241101T090000
DTEND;TZID=UTC:20241101T140000
DTSTAMP:20260425T214753
CREATED:20240726T135024Z
LAST-MODIFIED:20240726T143342Z
UID:10000123-1730451600-1730469600@www.imps.org.uk
SUMMARY:Northern Arms Fair (Newark)
DESCRIPTION:Northern Arms Fairs was established in 1978 and has for many years been the leading organisers of antique arms\, medals & militaria collectors’ fairs in the North of England and further afield\, by providing venues for collectors & dealers to share their passion & knowledge of all things military.
URL:https://www.imps.org.uk/event/northern-arms-fair-newark/2024-11-01/
LOCATION:Newark Showground\, Cedric Ford Paviliion\, Newark Showground\, Lincoln Road Coddington\, NG14 2NY
ATTACH;FMTTYPE=image/webp:https://www.imps.org.uk/wp-content/uploads/Northern-Arms-Fair-1.webp
END:VEVENT
BEGIN:VEVENT
DTSTART;TZID=UTC:20241013T090000
DTEND;TZID=UTC:20241013T140000
DTSTAMP:20260425T214753
CREATED:20240726T144532Z
LAST-MODIFIED:20240726T144532Z
UID:10000133-1728810000-1728828000@www.imps.org.uk
SUMMARY:Northern Arms Fair (Leeds)
DESCRIPTION:Northern Arms Fairs was established in 1978 and has for many years been the leading organisers of antique arms\, medals & militaria collectors’ fairs in the North of England and further afield\, by providing venues for collectors & dealers to share their passion & knowledge of all things military.
URL:https://www.imps.org.uk/event/northern-arms-fair-leeds/2024-10-13/
LOCATION:Pudsey Civic Hall\, Dawsons Cor\, Stanningley\, Pudsey LS28 5TA
ATTACH;FMTTYPE=image/webp:https://www.imps.org.uk/wp-content/uploads/Northern-Arms-Fair-1.webp
END:VEVENT
BEGIN:VEVENT
DTSTART;VALUE=DATE:20241006
DTEND;VALUE=DATE:20241007
DTSTAMP:20260425T214753
CREATED:20240726T153007Z
LAST-MODIFIED:20240727T004806Z
UID:10000145-1728175686-1728175686@www.imps.org.uk
SUMMARY:Wolverley Militaria Fair
DESCRIPTION:An excellent selection of usually around 20 to 25 stalls selling Medals\, Badges\, Uniforms\, Equipment etc.. from 18th century to the present day .
URL:https://www.imps.org.uk/event/wolverley-militaria-fair/2024-10-06/
ATTACH;FMTTYPE=image/jpeg:https://www.imps.org.uk/wp-content/uploads/Wolverley.jpg
END:VEVENT
BEGIN:VEVENT
DTSTART;TZID=UTC:20240929T090000
DTEND;TZID=UTC:20240929T140000
DTSTAMP:20260425T214753
CREATED:20240726T135024Z
LAST-MODIFIED:20240726T143342Z
UID:10000122-1727600400-1727618400@www.imps.org.uk
SUMMARY:Northern Arms Fair (Newark)
DESCRIPTION:Northern Arms Fairs was established in 1978 and has for many years been the leading organisers of antique arms\, medals & militaria collectors’ fairs in the North of England and further afield\, by providing venues for collectors & dealers to share their passion & knowledge of all things military.
URL:https://www.imps.org.uk/event/northern-arms-fair-newark/2024-09-29/
LOCATION:Newark Showground\, Cedric Ford Paviliion\, Newark Showground\, Lincoln Road Coddington\, NG14 2NY
ATTACH;FMTTYPE=image/webp:https://www.imps.org.uk/wp-content/uploads/Northern-Arms-Fair-1.webp
END:VEVENT
BEGIN:VEVENT
DTSTART;TZID=UTC:20240922T090000
DTEND;TZID=UTC:20240922T140000
DTSTAMP:20260425T214753
CREATED:20240726T145301Z
LAST-MODIFIED:20240726T145301Z
UID:10000139-1726995600-1727013600@www.imps.org.uk
SUMMARY:Northern Arms Fair (Preston)
DESCRIPTION:Northern Arms Fairs was established in 1978 and has for many years been the leading organisers of antique arms\, medals & militaria collectors’ fairs in the North of England and further afield\, by providing venues for collectors & dealers to share their passion & knowledge of all things military.
URL:https://www.imps.org.uk/event/northern-arms-fair-preston/2024-09-22/
LOCATION:The Mecure Bolton\, Georgian House Hotel\, Manchester Road\, Blackrod\, BL6 5RU
ATTACH;FMTTYPE=image/webp:https://www.imps.org.uk/wp-content/uploads/Northern-Arms-Fair-1.webp
END:VEVENT
BEGIN:VEVENT
DTSTART;VALUE=DATE:20240914
DTEND;VALUE=DATE:20240916
DTSTAMP:20260425T214753
CREATED:20240827T114900Z
LAST-MODIFIED:20240827T114900Z
UID:10000154-1726272000-1726444799@www.imps.org.uk
SUMMARY:Salute to the '40s
DESCRIPTION:This iconic weekend is brimming with nostalgia\, laughter\, and a whole lot of fun for the entire family. Experience dazzling entertainment that will transport you back to the vibrant 1940s\, and marvel at classic cars and military vehicles that showcase the era’s remarkable history.
URL:https://www.imps.org.uk/event/salute-to-the-40s/
LOCATION:Chatham Historic Dockyard\, Slip No 5\, Chatham\, ME4 4TZ
ATTACH;FMTTYPE=image/jpeg:https://www.imps.org.uk/wp-content/uploads/Salute.jpg
END:VEVENT
BEGIN:VEVENT
DTSTART;TZID=UTC:20240908T090000
DTEND;TZID=UTC:20240908T140000
DTSTAMP:20260425T214753
CREATED:20240726T144949Z
LAST-MODIFIED:20240726T144949Z
UID:10000135-1725786000-1725804000@www.imps.org.uk
SUMMARY:Northern Arms Fair (Scotch Corner)
DESCRIPTION:Northern Arms Fairs was established in 1978 and has for many years been the leading organisers of antique arms\, medals & militaria collectors’ fairs in the North of England and further afield\, by providing venues for collectors & dealers to share their passion & knowledge of all things military.
URL:https://www.imps.org.uk/event/northern-arms-fair-scotch-corner/
LOCATION:The Holiday Inn Darlington\, A1\, Darlington\, DL10 6NR
ATTACH;FMTTYPE=image/webp:https://www.imps.org.uk/wp-content/uploads/Northern-Arms-Fair-1.webp
END:VEVENT
BEGIN:VEVENT
DTSTART;VALUE=DATE:20240906
DTEND;VALUE=DATE:20240909
DTSTAMP:20260425T214753
CREATED:20231106T080812Z
LAST-MODIFIED:20240726T144137Z
UID:10000111-1725580800-1725839999@www.imps.org.uk
SUMMARY:Goodwood Revival
DESCRIPTION:An epic weekend of sunshine\, racing and the joys of vintage clothes and vehicles.
URL:https://www.imps.org.uk/event/goodwood-revival/2024-09-06/
ATTACH;FMTTYPE=image/png:https://www.imps.org.uk/wp-content/uploads/Goodwood-Revival.png
END:VEVENT
BEGIN:VEVENT
DTSTART;TZID=UTC:20240901T093000
DTEND;TZID=UTC:20240901T143000
DTSTAMP:20260425T214753
CREATED:20230422T092348Z
LAST-MODIFIED:20240726T150136Z
UID:10000011-1725183000-1725201000@www.imps.org.uk
SUMMARY:Kempton Vintage & Classic Arms Fair
DESCRIPTION:Kempton Park Race Course\, Staines Rd East\, TW16 5AQ.\nOpen for public from 9:30am to 2:30pm
URL:https://www.imps.org.uk/event/kempton-classic-arms-fair/2024-09-01/
LOCATION:Kempton Park Racecourse\, Staines Road East\, Sunbury-on-Thames\, TW16 5AQ
CATEGORIES:Shows
ATTACH;FMTTYPE=image/png:https://www.imps.org.uk/wp-content/uploads/Kempton.png
END:VEVENT
BEGIN:VEVENT
DTSTART;VALUE=DATE:20240901
DTEND;VALUE=DATE:20240902
DTSTAMP:20260425T214753
CREATED:20240726T153007Z
LAST-MODIFIED:20240727T004806Z
UID:10000144-1725151686-1725151686@www.imps.org.uk
SUMMARY:Wolverley Militaria Fair
DESCRIPTION:An excellent selection of usually around 20 to 25 stalls selling Medals\, Badges\, Uniforms\, Equipment etc.. from 18th century to the present day .
URL:https://www.imps.org.uk/event/wolverley-militaria-fair/2024-09-01/
ATTACH;FMTTYPE=image/jpeg:https://www.imps.org.uk/wp-content/uploads/Wolverley.jpg
END:VEVENT
BEGIN:VEVENT
DTSTART;VALUE=DATE:20240830
DTEND;VALUE=DATE:20240902
DTSTAMP:20260425T214753
CREATED:20240727T021022Z
LAST-MODIFIED:20240727T021128Z
UID:10000153-1724976000-1725235199@www.imps.org.uk
SUMMARY:The Victory Show
DESCRIPTION:The show provides Historical Societies and re-enactments through various forces from several eras and theatres during the period of 1939-45.
URL:https://www.imps.org.uk/event/the-victory-show/
LOCATION:Foxlands Farm\, Cosby\, Leicestershire\, LE9 1SG
ATTACH;FMTTYPE=image/png:https://www.imps.org.uk/wp-content/uploads/The-Victory-Show.png
END:VEVENT
BEGIN:VEVENT
DTSTART;VALUE=DATE:20240829
DTEND;VALUE=DATE:20240903
DTSTAMP:20260425T214753
CREATED:20230212T145510Z
LAST-MODIFIED:20240726T144325Z
UID:10000001-1724889600-1725321599@www.imps.org.uk
SUMMARY:Le Pas-de-Calais Libéré
DESCRIPTION:Our annual pilgrimage to Northern France to celebrate the WW2 liberation of the Pas-de Calais region.
URL:https://www.imps.org.uk/event/hlliecoourt/2024-08-29/
CATEGORIES:Events,IMPS
ATTACH;FMTTYPE=image/png:https://www.imps.org.uk/wp-content/uploads/ArtoisLibre300.png
END:VEVENT
BEGIN:VEVENT
DTSTART;VALUE=DATE:20240824
DTEND;VALUE=DATE:20240827
DTSTAMP:20260425T214753
CREATED:20240727T020421Z
LAST-MODIFIED:20240727T023031Z
UID:10000152-1724457600-1724716799@www.imps.org.uk
SUMMARY:Tanks Trucks and Firepower
DESCRIPTION:You will never see such a spectacular display of dozens of tanks firing\, crushing cars and speed demonstrations\, all in the UK’s biggest tank arena.
URL:https://www.imps.org.uk/event/tanks-trucks-and-firepower/
LOCATION:Dunchurch Showground\, Toft Lane\, Dunchurch\, Rugby\, CV22 6NR
ATTACH;FMTTYPE=image/png:https://www.imps.org.uk/wp-content/uploads/Tanks-Trucks-Firepower.png
END:VEVENT
BEGIN:VEVENT
DTSTART;VALUE=DATE:20240824
DTEND;VALUE=DATE:20240827
DTSTAMP:20260425T214753
CREATED:20230427T151608Z
LAST-MODIFIED:20240727T005457Z
UID:10000108-1724457600-1724716799@www.imps.org.uk
SUMMARY:Military Odyssey
DESCRIPTION:A three-day multi-period living history held on the August Bank Holiday weekend. The show is packed full of living history displays bringing 2000 years of history into one place.
URL:https://www.imps.org.uk/event/military-odyssey/
LOCATION:Detling Show Ground\, Detling Hill\, Maidstone ME14 3HS
CATEGORIES:Shows
ATTACH;FMTTYPE=image/png:https://www.imps.org.uk/wp-content/uploads/Military-Odyssey.png
END:VEVENT
BEGIN:VEVENT
DTSTART;TZID=UTC:20240818T090000
DTEND;TZID=UTC:20240818T140000
DTSTAMP:20260425T214753
CREATED:20240726T144532Z
LAST-MODIFIED:20240726T144532Z
UID:10000132-1723971600-1723989600@www.imps.org.uk
SUMMARY:Northern Arms Fair (Leeds)
DESCRIPTION:Northern Arms Fairs was established in 1978 and has for many years been the leading organisers of antique arms\, medals & militaria collectors’ fairs in the North of England and further afield\, by providing venues for collectors & dealers to share their passion & knowledge of all things military.
URL:https://www.imps.org.uk/event/northern-arms-fair-leeds/2024-08-18/
LOCATION:Pudsey Civic Hall\, Dawsons Cor\, Stanningley\, Pudsey LS28 5TA
ATTACH;FMTTYPE=image/webp:https://www.imps.org.uk/wp-content/uploads/Northern-Arms-Fair-1.webp
END:VEVENT
BEGIN:VEVENT
DTSTART;VALUE=DATE:20240817
DTEND;VALUE=DATE:20240819
DTSTAMP:20260425T214753
CREATED:20240727T011650Z
LAST-MODIFIED:20240727T013038Z
UID:10000150-1723852800-1724025599@www.imps.org.uk
SUMMARY:White Horse Military Show
DESCRIPTION:The White Horse Military Show is a themed living museum where the whole family can come and enjoy a pleasant day. The site is arranged in ‘villages’ so that an atmosphere of that period can be created.
URL:https://www.imps.org.uk/event/white-horse-military-show/
LOCATION:Neston Park Estate\, Wiltshire BA15 2RL
ATTACH;FMTTYPE=image/png:https://www.imps.org.uk/wp-content/uploads/White-horse-logo.png
END:VEVENT
BEGIN:VEVENT
DTSTART;VALUE=DATE:20240817
DTEND;VALUE=DATE:20240819
DTSTAMP:20260425T214753
CREATED:20240727T010901Z
LAST-MODIFIED:20240727T012636Z
UID:10000149-1723852800-1724025599@www.imps.org.uk
SUMMARY:Armourfest
DESCRIPTION:Main Battle Tanks\, Armoured vehicles\, re-enactors\, Living History\, exhibitors\, arena events\, Military Vehicle Rides Refreshments\, Picnic Area\, Military Model display and stalls.
URL:https://www.imps.org.uk/event/armourfest/
LOCATION:Norfolk Tank Museum\, Station Road Forncett St Peter Norwich Norfolk NR16 1HZ
ATTACH;FMTTYPE=image/png:https://www.imps.org.uk/wp-content/uploads/Norfolk-Tank-Museum.png
END:VEVENT
BEGIN:VEVENT
DTSTART;VALUE=DATE:20240810
DTEND;VALUE=DATE:20240812
DTSTAMP:20260425T214753
CREATED:20240727T005912Z
LAST-MODIFIED:20240727T010512Z
UID:10000148-1723248000-1723420799@www.imps.org.uk
SUMMARY:Echoes of History
DESCRIPTION:A multi period and national living history and military event showing military history through the ages and of course historic military vehicles that are so much a special feature of our show.
URL:https://www.imps.org.uk/event/echoes-of-history/
LOCATION:Whitehouse Farm\, The Living Memorial\, Rettendon\, Essex\, CM3 8DL
ATTACH;FMTTYPE=image/png:https://www.imps.org.uk/wp-content/uploads/Echoes.png
END:VEVENT
BEGIN:VEVENT
DTSTART;VALUE=DATE:20240809
DTEND;VALUE=DATE:20240812
DTSTAMP:20260425T214753
CREATED:20230427T150830Z
LAST-MODIFIED:20240727T005608Z
UID:10000107-1723161600-1723420799@www.imps.org.uk
SUMMARY:The Yorkshire Wartime Experience
DESCRIPTION:The North’s Premier & Largest Military Vehicle and Re-enactment Show. IMPS will be there with our stand so come and say hello.
URL:https://www.imps.org.uk/event/the-yorkshire-wartime-experience/
LOCATION:The Yorkshire Wartime Experience\, Hunsworth Ln\, East Bierley\, Bradford BD4 6RN
CATEGORIES:Shows
ATTACH;FMTTYPE=image/png:https://www.imps.org.uk/wp-content/uploads/YWE.png
END:VEVENT
BEGIN:VEVENT
DTSTART;TZID=UTC:20240804T090000
DTEND;TZID=UTC:20240804T140000
DTSTAMP:20260425T214753
CREATED:20240726T135024Z
LAST-MODIFIED:20240726T143342Z
UID:10000121-1722762000-1722780000@www.imps.org.uk
SUMMARY:Northern Arms Fair (Newark)
DESCRIPTION:Northern Arms Fairs was established in 1978 and has for many years been the leading organisers of antique arms\, medals & militaria collectors’ fairs in the North of England and further afield\, by providing venues for collectors & dealers to share their passion & knowledge of all things military.
URL:https://www.imps.org.uk/event/northern-arms-fair-newark/2024-08-04/
LOCATION:Newark Showground\, Cedric Ford Paviliion\, Newark Showground\, Lincoln Road Coddington\, NG14 2NY
ATTACH;FMTTYPE=image/webp:https://www.imps.org.uk/wp-content/uploads/Northern-Arms-Fair-1.webp
END:VEVENT
BEGIN:VEVENT
DTSTART;VALUE=DATE:20240804
DTEND;VALUE=DATE:20240805
DTSTAMP:20260425T214753
CREATED:20240726T153007Z
LAST-MODIFIED:20240727T004806Z
UID:10000143-1722729600-1722815999@www.imps.org.uk
SUMMARY:Wolverley Militaria Fair
DESCRIPTION:An excellent selection of usually around 20 to 25 stalls selling Medals\, Badges\, Uniforms\, Equipment etc.. from 18th century to the present day .
URL:https://www.imps.org.uk/event/wolverley-militaria-fair/2024-08-04/
ATTACH;FMTTYPE=image/jpeg:https://www.imps.org.uk/wp-content/uploads/Wolverley.jpg
END:VEVENT
END:VCALENDAR