BEGIN:VCALENDAR
VERSION:2.0
PRODID:-//Invicta Military-Vehicle Preservation Society - ECPv6.11.2.1//NONSGML v1.0//EN
CALSCALE:GREGORIAN
METHOD:PUBLISH
X-ORIGINAL-URL:https://www.imps.org.uk
X-WR-CALDESC:Events for Invicta Military-Vehicle Preservation Society
REFRESH-INTERVAL;VALUE=DURATION:PT1H
X-Robots-Tag:noindex
X-PUBLISHED-TTL:PT1H
BEGIN:VTIMEZONE
TZID:UTC
BEGIN:STANDARD
TZOFFSETFROM:+0000
TZOFFSETTO:+0000
TZNAME:UTC
DTSTART:20230101T000000
END:STANDARD
END:VTIMEZONE
BEGIN:VEVENT
DTSTART;VALUE=DATE:20230715
DTEND;VALUE=DATE:20230717
DTSTAMP:20260424T025446
CREATED:20230427T144903Z
LAST-MODIFIED:20230427T161904Z
UID:10000105-1689379200-1689551999@www.imps.org.uk
SUMMARY:Battles for Victory Show
DESCRIPTION:A multi-period living history show.
URL:https://www.imps.org.uk/event/battles-for-victory-show/
LOCATION:Quex Park\, Birchington\, Kent CT11 9TL
CATEGORIES:Shows
ATTACH;FMTTYPE=image/png:https://www.imps.org.uk/wp-content/uploads/Battles-for-Victory.png
END:VEVENT
BEGIN:VEVENT
DTSTART;VALUE=DATE:20230610
DTEND;VALUE=DATE:20230612
DTSTAMP:20260424T025446
CREATED:20230427T130831Z
LAST-MODIFIED:20230427T161913Z
UID:10000100-1686355200-1686527999@www.imps.org.uk
SUMMARY:Folkstone & Ashford Military Show
DESCRIPTION:The Folkestone and Ashford Military Show is a great day out for all the family. They will have displays running both days alongside various exhibitors and traders stalls.
URL:https://www.imps.org.uk/event/folkstone-ashford-military-show/
LOCATION:Sellindge Showground\, Swan Ln\, Sellindge\, Ashford TN25 6EP
CATEGORIES:Shows
ATTACH;FMTTYPE=image/png:https://www.imps.org.uk/wp-content/uploads/Folkestone.png
END:VEVENT
BEGIN:VEVENT
DTSTART;VALUE=DATE:20230610
DTEND;VALUE=DATE:20230612
DTSTAMP:20260424T025446
CREATED:20230427T125136Z
LAST-MODIFIED:20230427T161923Z
UID:10000099-1686355200-1686527999@www.imps.org.uk
SUMMARY:The Dig for Victory Show
DESCRIPTION:The Dig For Victory Show is a fantastic 1940’s family festival held in the beautiful North Somerset countryside\, exploring the turbulent yet thought-provoking wartime years.
URL:https://www.imps.org.uk/event/the-dig-for-victory-show/
LOCATION:The North Somerset Showground\, Bathing Pond Fields\, Wraxall\, BS48 1NE
CATEGORIES:IMPS,Shows
ATTACH;FMTTYPE=image/jpeg:https://www.imps.org.uk/wp-content/uploads/DigForVIctory-300.jpg
END:VEVENT
BEGIN:VEVENT
DTSTART;VALUE=DATE:20230520
DTEND;VALUE=DATE:20230522
DTSTAMP:20260424T025446
CREATED:20230427T120536Z
LAST-MODIFIED:20230427T162154Z
UID:10000082-1684540800-1684713599@www.imps.org.uk
SUMMARY:Favisham Festival of Transport
DESCRIPTION:Faversham Town Centre – Bring your Military Vehicle to display in Stone St and entry is free.
URL:https://www.imps.org.uk/event/favisham-festival-of-transport/
CATEGORIES:Shows
ATTACH;FMTTYPE=image/png:https://www.imps.org.uk/wp-content/uploads/Favisham.png
END:VEVENT
END:VCALENDAR