BEGIN:VCALENDAR
VERSION:2.0
PRODID:-//Invicta Military-Vehicle Preservation Society - ECPv6.11.2.1//NONSGML v1.0//EN
CALSCALE:GREGORIAN
METHOD:PUBLISH
X-WR-CALNAME:Invicta Military-Vehicle Preservation Society
X-ORIGINAL-URL:https://www.imps.org.uk
X-WR-CALDESC:Events for Invicta Military-Vehicle Preservation Society
REFRESH-INTERVAL;VALUE=DURATION:PT1H
X-Robots-Tag:noindex
X-PUBLISHED-TTL:PT1H
BEGIN:VTIMEZONE
TZID:UTC
BEGIN:STANDARD
TZOFFSETFROM:+0000
TZOFFSETTO:+0000
TZNAME:UTC
DTSTART:20230101T000000
END:STANDARD
END:VTIMEZONE
BEGIN:VEVENT
DTSTART;VALUE=DATE:20250904
DTEND;VALUE=DATE:20250909
DTSTAMP:20260424T025726
CREATED:20230212T145510Z
LAST-MODIFIED:20240726T144325Z
UID:10000128-1756972800-1757350800@www.imps.org.uk
SUMMARY:Le Pas-de-Calais Libéré
DESCRIPTION:Our annual pilgrimage to Northern France to celebrate the WW2 liberation of the Pas-de Calais region.
URL:https://www.imps.org.uk/event/hlliecoourt/2025-09-04/
CATEGORIES:Events,IMPS
ATTACH;FMTTYPE=image/png:https://www.imps.org.uk/wp-content/uploads/ArtoisLibre300.png
END:VEVENT
BEGIN:VEVENT
DTSTART;VALUE=DATE:20250406
DTEND;VALUE=DATE:20250407
DTSTAMP:20260424T025726
CREATED:20250225T110831Z
LAST-MODIFIED:20250225T110831Z
UID:10000161-1743897600-1743983999@www.imps.org.uk
SUMMARY:The AA Commemorative Military Road Run
DESCRIPTION:Road run from Sevenoaks to Hastings to raise money for Combat Stress. It is open to any soft skinned military vehicles and motorcycles of the type used by the British armed forces from 1909 to the present day (armoured vehicles are precluded)\, as well as any pre 1965 veteran\, vintage and classic cars\, commercial vehicles and motorcycles.\nEntry to the run is subject to a donation to Combat stress
URL:https://www.imps.org.uk/event/the-aa-commemorative-military-road-run/
CATEGORIES:IMPS
ATTACH;FMTTYPE=image/png:https://www.imps.org.uk/wp-content/uploads/AA-Round.png
END:VEVENT
BEGIN:VEVENT
DTSTART;VALUE=DATE:20240829
DTEND;VALUE=DATE:20240903
DTSTAMP:20260424T025726
CREATED:20230212T145510Z
LAST-MODIFIED:20240726T144325Z
UID:10000001-1724889600-1725321599@www.imps.org.uk
SUMMARY:Le Pas-de-Calais Libéré
DESCRIPTION:Our annual pilgrimage to Northern France to celebrate the WW2 liberation of the Pas-de Calais region.
URL:https://www.imps.org.uk/event/hlliecoourt/2024-08-29/
CATEGORIES:Events,IMPS
ATTACH;FMTTYPE=image/png:https://www.imps.org.uk/wp-content/uploads/ArtoisLibre300.png
END:VEVENT
BEGIN:VEVENT
DTSTART;VALUE=DATE:20240601
DTEND;VALUE=DATE:20240611
DTSTAMP:20260424T025726
CREATED:20230422T090840Z
LAST-MODIFIED:20230427T162028Z
UID:10000004-1717200000-1718063999@www.imps.org.uk
SUMMARY:Operation Overlord
DESCRIPTION:Every 5 years we head to Normandy
URL:https://www.imps.org.uk/event/operation-overlord/
LOCATION:Port-en-Bassin\, Normandy\, France\, Port-en-bessin\, France
CATEGORIES:Events,IMPS
ATTACH;FMTTYPE=image/png:https://www.imps.org.uk/wp-content/uploads/IMPS-Normandy-Logo-2024.png
END:VEVENT
BEGIN:VEVENT
DTSTART;TZID=UTC:20240414T080000
DTEND;TZID=UTC:20240414T170000
DTSTAMP:20260424T025726
CREATED:20230212T150946Z
LAST-MODIFIED:20231226T143200Z
UID:10000118-1713081600-1713114000@www.imps.org.uk
SUMMARY:The AA Road Run
DESCRIPTION:The AA Military Road Run\nWe will be commemorating the 112th anniversary of the first occasion a body of troops was moved on operations by motor transport with a road run from Sevenoaks to Hastings. In March 1909 the AA and the War Office organised the transport of 6oo Guardsmen from London to Hastings\, carried in motor cars owned by members of the AA.\nThis will also be 12th consecutive year of the AA Commemorative Military Road Run is open to Military Soft skin vehicles and Motor Cycles (sorry no armoured vehicles) in use by British Forces from 1909 to the present day\, as well as Veteran\, Vintage and Classic cars and motor cycles up to 1945.\nTraditionally some 60 vehicles take part\, leaving from at 10am from Sevenoaks Suffolk Way Car Park\, to travel through Tonbridge and Pembury and down the A21\, with a stop at the Chequers Inn in Lamberhurst\, to Hastings.\nThe vehicles will then be on display to the public at the Stade Exhibition area (on the sea front near the Old Town). First arrivals are expected from 11.30\, and will be staying to approximately 15.30\nThe run is being organised in aid of Combat Stress\, who celebrate their 101st anniversary this year\, and is supported by the AA.
URL:https://www.imps.org.uk/event/the-aa-road-run/2024-04-14/
CATEGORIES:Events,IMPS
ATTACH;FMTTYPE=image/png:https://www.imps.org.uk/wp-content/uploads/AA-Round.png
END:VEVENT
BEGIN:VEVENT
DTSTART;TZID=UTC:20240114T080000
DTEND;TZID=UTC:20240114T170000
DTSTAMP:20260424T025726
CREATED:20231226T142217Z
LAST-MODIFIED:20231226T142244Z
UID:10000112-1705219200-1705251600@www.imps.org.uk
SUMMARY:The Frostbite Run
DESCRIPTION:Our New Year starter – the Frostbite Run. A treasure hunt in our military vehicles followed by lunch and prizes.
URL:https://www.imps.org.uk/event/the-frostbite-run/
CATEGORIES:Events,IMPS
ATTACH;FMTTYPE=image/png:https://www.imps.org.uk/wp-content/uploads/IMPS-Site-Logo.png
END:VEVENT
BEGIN:VEVENT
DTSTART;TZID=UTC:20231113T193000
DTEND;TZID=UTC:20231113T213000
DTSTAMP:20260424T025726
CREATED:20230620T072753Z
LAST-MODIFIED:20230620T072754Z
UID:10000110-1699903800-1699911000@www.imps.org.uk
SUMMARY:Weald Area Meet
DESCRIPTION:Come and join us for a chat and a beverage. Everyone is welcome.
URL:https://www.imps.org.uk/event/weald-area-meet-2/2023-11-13/
LOCATION:The White Hart\, High Street\, Brasted\,\, TN16 1JE
CATEGORIES:IMPS
ATTACH;FMTTYPE=image/png:https://www.imps.org.uk/wp-content/uploads/cropped-IMPS-Colour-Logo.png
END:VEVENT
BEGIN:VEVENT
DTSTART;TZID=UTC:20231009T193000
DTEND;TZID=UTC:20231009T213000
DTSTAMP:20260424T025726
CREATED:20230620T072753Z
LAST-MODIFIED:20230620T072754Z
UID:10000027-1696879800-1696887000@www.imps.org.uk
SUMMARY:Weald Area Meet
DESCRIPTION:Come and join us for a chat and a beverage. Everyone is welcome.
URL:https://www.imps.org.uk/event/weald-area-meet-2/2023-10-09/
LOCATION:The White Hart\, High Street\, Brasted\,\, TN16 1JE
CATEGORIES:IMPS
ATTACH;FMTTYPE=image/png:https://www.imps.org.uk/wp-content/uploads/cropped-IMPS-Colour-Logo.png
END:VEVENT
BEGIN:VEVENT
DTSTART;TZID=UTC:20230911T193000
DTEND;TZID=UTC:20230911T213000
DTSTAMP:20260424T025726
CREATED:20230620T072753Z
LAST-MODIFIED:20230620T072754Z
UID:10000026-1694460600-1694467800@www.imps.org.uk
SUMMARY:Weald Area Meet
DESCRIPTION:Come and join us for a chat and a beverage. Everyone is welcome.
URL:https://www.imps.org.uk/event/weald-area-meet-2/2023-09-11/
LOCATION:The White Hart\, High Street\, Brasted\,\, TN16 1JE
CATEGORIES:IMPS
ATTACH;FMTTYPE=image/png:https://www.imps.org.uk/wp-content/uploads/cropped-IMPS-Colour-Logo.png
END:VEVENT
BEGIN:VEVENT
DTSTART;TZID=UTC:20230814T193000
DTEND;TZID=UTC:20230814T213000
DTSTAMP:20260424T025726
CREATED:20230620T072753Z
LAST-MODIFIED:20230620T072754Z
UID:10000024-1692041400-1692048600@www.imps.org.uk
SUMMARY:Weald Area Meet
DESCRIPTION:Come and join us for a chat and a beverage. Everyone is welcome.
URL:https://www.imps.org.uk/event/weald-area-meet-2/2023-08-14/
LOCATION:The White Hart\, High Street\, Brasted\,\, TN16 1JE
CATEGORIES:IMPS
ATTACH;FMTTYPE=image/png:https://www.imps.org.uk/wp-content/uploads/cropped-IMPS-Colour-Logo.png
END:VEVENT
BEGIN:VEVENT
DTSTART;TZID=UTC:20230703T193000
DTEND;TZID=UTC:20230703T213000
DTSTAMP:20260424T025726
CREATED:20230620T073057Z
LAST-MODIFIED:20230620T073809Z
UID:10000023-1688412600-1688419800@www.imps.org.uk
SUMMARY:Weald Area Meet @ The Commercial Vehicle Society
DESCRIPTION:The Historic Commercial Vehicle Society will have their annual July meet at Bones Lane\, Newchapel RH7 6HR from 5pm on Monday 3rd July.\nThis is a great event.
URL:https://www.imps.org.uk/event/weald-area-meet-3/
LOCATION:Bones Lane\, Newchapel\, RH7 6HR
CATEGORIES:IMPS
ATTACH;FMTTYPE=image/png:https://www.imps.org.uk/wp-content/uploads/cropped-IMPS-Colour-Logo.png
END:VEVENT
BEGIN:VEVENT
DTSTART;VALUE=DATE:20230610
DTEND;VALUE=DATE:20230612
DTSTAMP:20260424T025726
CREATED:20230427T125136Z
LAST-MODIFIED:20230427T161923Z
UID:10000099-1686355200-1686527999@www.imps.org.uk
SUMMARY:The Dig for Victory Show
DESCRIPTION:The Dig For Victory Show is a fantastic 1940’s family festival held in the beautiful North Somerset countryside\, exploring the turbulent yet thought-provoking wartime years.
URL:https://www.imps.org.uk/event/the-dig-for-victory-show/
LOCATION:The North Somerset Showground\, Bathing Pond Fields\, Wraxall\, BS48 1NE
CATEGORIES:IMPS,Shows
ATTACH;FMTTYPE=image/jpeg:https://www.imps.org.uk/wp-content/uploads/DigForVIctory-300.jpg
END:VEVENT
BEGIN:VEVENT
DTSTART;VALUE=DATE:20230519
DTEND;VALUE=DATE:20230521
DTSTAMP:20260424T025726
CREATED:20230427T120701Z
LAST-MODIFIED:20230513T130835Z
UID:10000083-1684454400-1684627199@www.imps.org.uk
SUMMARY:Surrey Area Camping Weekend
DESCRIPTION:Come along to an informal camping weekend at RAF Kenley\, Run outs and Airfield walk. Open to all members.
URL:https://www.imps.org.uk/event/surrey-area-camping-weekend/
CATEGORIES:Events,IMPS
ATTACH;FMTTYPE=image/png:https://www.imps.org.uk/wp-content/uploads/IMPS-Colour-Logo.png
END:VEVENT
BEGIN:VEVENT
DTSTART;TZID=UTC:20230508T193000
DTEND;TZID=UTC:20230508T213000
DTSTAMP:20260424T025726
CREATED:20230422T130948Z
LAST-MODIFIED:20230518T163441Z
UID:10000022-1683574200-1683581400@www.imps.org.uk
SUMMARY:Weald Area Meet
DESCRIPTION:Come and join us for a chat and a beverage. Everyone is welcome.
URL:https://www.imps.org.uk/event/weald-area-meet/2023-05-08/
LOCATION:The White Hart\, High Street\, Brasted\,\, TN16 1JE
CATEGORIES:IMPS
ATTACH;FMTTYPE=image/png:https://www.imps.org.uk/wp-content/uploads/cropped-IMPS-Colour-Logo.png
END:VEVENT
BEGIN:VEVENT
DTSTART;TZID=UTC:20230416T080000
DTEND;TZID=UTC:20230416T170000
DTSTAMP:20260424T025726
CREATED:20230212T150946Z
LAST-MODIFIED:20231226T143200Z
UID:10000002-1681632000-1681664400@www.imps.org.uk
SUMMARY:The AA Road Run
DESCRIPTION:The AA Military Road Run\nWe will be commemorating the 112th anniversary of the first occasion a body of troops was moved on operations by motor transport with a road run from Sevenoaks to Hastings. In March 1909 the AA and the War Office organised the transport of 6oo Guardsmen from London to Hastings\, carried in motor cars owned by members of the AA.\nThis will also be 12th consecutive year of the AA Commemorative Military Road Run is open to Military Soft skin vehicles and Motor Cycles (sorry no armoured vehicles) in use by British Forces from 1909 to the present day\, as well as Veteran\, Vintage and Classic cars and motor cycles up to 1945.\nTraditionally some 60 vehicles take part\, leaving from at 10am from Sevenoaks Suffolk Way Car Park\, to travel through Tonbridge and Pembury and down the A21\, with a stop at the Chequers Inn in Lamberhurst\, to Hastings.\nThe vehicles will then be on display to the public at the Stade Exhibition area (on the sea front near the Old Town). First arrivals are expected from 11.30\, and will be staying to approximately 15.30\nThe run is being organised in aid of Combat Stress\, who celebrate their 101st anniversary this year\, and is supported by the AA.
URL:https://www.imps.org.uk/event/the-aa-road-run/2023-04-16/
CATEGORIES:Events,IMPS
ATTACH;FMTTYPE=image/png:https://www.imps.org.uk/wp-content/uploads/AA-Round.png
END:VEVENT
END:VCALENDAR