BEGIN:VCALENDAR
VERSION:2.0
PRODID:-//Invicta Military-Vehicle Preservation Society - ECPv6.11.2.1//NONSGML v1.0//EN
CALSCALE:GREGORIAN
METHOD:PUBLISH
X-WR-CALNAME:Invicta Military-Vehicle Preservation Society
X-ORIGINAL-URL:https://www.imps.org.uk
X-WR-CALDESC:Events for Invicta Military-Vehicle Preservation Society
REFRESH-INTERVAL;VALUE=DURATION:PT1H
X-Robots-Tag:noindex
X-PUBLISHED-TTL:PT1H
BEGIN:VTIMEZONE
TZID:UTC
BEGIN:STANDARD
TZOFFSETFROM:+0000
TZOFFSETTO:+0000
TZNAME:UTC
DTSTART:20230101T000000
END:STANDARD
END:VTIMEZONE
BEGIN:VEVENT
DTSTART;VALUE=DATE:20230624
DTEND;VALUE=DATE:20230625
DTSTAMP:20260424T041447
CREATED:20230529T132124Z
LAST-MODIFIED:20230620T060459Z
UID:10000109-1687564800-1687651199@www.imps.org.uk
SUMMARY:Commemorative Convoys - Armed Forces Day
DESCRIPTION:Commemorative Convoys organise\, manage and present charity based Military Vehicle convoys in Hampshire and Berkshire to coincide with significant occasions including the annual Armed Forces Day. \n 
URL:https://www.imps.org.uk/event/commemorative-convoys-armed-forces-day-2/
CATEGORIES:Events
ATTACH;FMTTYPE=image/png:https://www.imps.org.uk/wp-content/uploads/AFD_Flag22_Strapline_Reverse.png
END:VEVENT
BEGIN:VEVENT
DTSTART;TZID=UTC:20230617T100000
DTEND;TZID=UTC:20230617T160000
DTSTAMP:20260424T041447
CREATED:20230427T121158Z
LAST-MODIFIED:20230427T162126Z
UID:10000092-1686996000-1687017600@www.imps.org.uk
SUMMARY:Capel Battery Open Day
DESCRIPTION:A Second World War artillery battery at Capel built between 1941 and 1942 on the cliff tops of Capel-Le_Ferne between Dover and Folkestone.
URL:https://www.imps.org.uk/event/capel-battery-open-day/2023-06-17/
LOCATION:Capel Battery\, New Dover Rd\, Capel-le-Ferne\, Folkstone\, CT18 7JJ
CATEGORIES:Events
ATTACH;FMTTYPE=image/png:https://www.imps.org.uk/wp-content/uploads/Capel-Battery-1-e1682598849709.png
END:VEVENT
BEGIN:VEVENT
DTSTART;TZID=UTC:20230520T120000
DTEND;TZID=UTC:20230520T150000
DTSTAMP:20260424T041447
CREATED:20230427T121158Z
LAST-MODIFIED:20230427T162126Z
UID:10000097-1684584000-1684594800@www.imps.org.uk
SUMMARY:Capel Battery Open Day
DESCRIPTION:A Second World War artillery battery at Capel built between 1941 and 1942 on the cliff tops of Capel-Le_Ferne between Dover and Folkestone.
URL:https://www.imps.org.uk/event/capel-battery-open-day/2023-05-20/
LOCATION:Capel Battery\, New Dover Rd\, Capel-le-Ferne\, Folkstone\, CT18 7JJ
CATEGORIES:Events
ATTACH;FMTTYPE=image/png:https://www.imps.org.uk/wp-content/uploads/Capel-Battery-1-e1682598849709.png
END:VEVENT
BEGIN:VEVENT
DTSTART;VALUE=DATE:20230519
DTEND;VALUE=DATE:20230521
DTSTAMP:20260424T041447
CREATED:20230427T120701Z
LAST-MODIFIED:20230513T130835Z
UID:10000083-1684454400-1684627199@www.imps.org.uk
SUMMARY:Surrey Area Camping Weekend
DESCRIPTION:Come along to an informal camping weekend at RAF Kenley\, Run outs and Airfield walk. Open to all members.
URL:https://www.imps.org.uk/event/surrey-area-camping-weekend/
CATEGORIES:Events,IMPS
ATTACH;FMTTYPE=image/png:https://www.imps.org.uk/wp-content/uploads/IMPS-Colour-Logo.png
END:VEVENT
BEGIN:VEVENT
DTSTART;TZID=UTC:20230416T080000
DTEND;TZID=UTC:20230416T170000
DTSTAMP:20260424T041447
CREATED:20230212T150946Z
LAST-MODIFIED:20231226T143200Z
UID:10000002-1681632000-1681664400@www.imps.org.uk
SUMMARY:The AA Road Run
DESCRIPTION:The AA Military Road Run\nWe will be commemorating the 112th anniversary of the first occasion a body of troops was moved on operations by motor transport with a road run from Sevenoaks to Hastings. In March 1909 the AA and the War Office organised the transport of 6oo Guardsmen from London to Hastings\, carried in motor cars owned by members of the AA.\nThis will also be 12th consecutive year of the AA Commemorative Military Road Run is open to Military Soft skin vehicles and Motor Cycles (sorry no armoured vehicles) in use by British Forces from 1909 to the present day\, as well as Veteran\, Vintage and Classic cars and motor cycles up to 1945.\nTraditionally some 60 vehicles take part\, leaving from at 10am from Sevenoaks Suffolk Way Car Park\, to travel through Tonbridge and Pembury and down the A21\, with a stop at the Chequers Inn in Lamberhurst\, to Hastings.\nThe vehicles will then be on display to the public at the Stade Exhibition area (on the sea front near the Old Town). First arrivals are expected from 11.30\, and will be staying to approximately 15.30\nThe run is being organised in aid of Combat Stress\, who celebrate their 101st anniversary this year\, and is supported by the AA.
URL:https://www.imps.org.uk/event/the-aa-road-run/2023-04-16/
CATEGORIES:Events,IMPS
ATTACH;FMTTYPE=image/png:https://www.imps.org.uk/wp-content/uploads/AA-Round.png
END:VEVENT
END:VCALENDAR